BEGIN:VCALENDAR
VERSION:2.0
PRODID:-//Camp Courant - ECPv6.15.20//NONSGML v1.0//EN
CALSCALE:GREGORIAN
METHOD:PUBLISH
X-WR-CALNAME:Camp Courant
X-ORIGINAL-URL:https://campcourant.org
X-WR-CALDESC:Events for Camp Courant
REFRESH-INTERVAL;VALUE=DURATION:PT1H
X-Robots-Tag:noindex
X-PUBLISHED-TTL:PT1H
BEGIN:VTIMEZONE
TZID:America/New_York
BEGIN:DAYLIGHT
TZOFFSETFROM:-0500
TZOFFSETTO:-0400
TZNAME:EDT
DTSTART:20230312T070000
END:DAYLIGHT
BEGIN:STANDARD
TZOFFSETFROM:-0400
TZOFFSETTO:-0500
TZNAME:EST
DTSTART:20231105T060000
END:STANDARD
BEGIN:DAYLIGHT
TZOFFSETFROM:-0500
TZOFFSETTO:-0400
TZNAME:EDT
DTSTART:20240310T070000
END:DAYLIGHT
BEGIN:STANDARD
TZOFFSETFROM:-0400
TZOFFSETTO:-0500
TZNAME:EST
DTSTART:20241103T060000
END:STANDARD
BEGIN:DAYLIGHT
TZOFFSETFROM:-0500
TZOFFSETTO:-0400
TZNAME:EDT
DTSTART:20250309T070000
END:DAYLIGHT
BEGIN:STANDARD
TZOFFSETFROM:-0400
TZOFFSETTO:-0500
TZNAME:EST
DTSTART:20251102T060000
END:STANDARD
END:VTIMEZONE
BEGIN:VEVENT
DTSTART;TZID=America/New_York:20240408T080000
DTEND;TZID=America/New_York:20240408T093000
DTSTAMP:20260422T024001
CREATED:20240318T182007Z
LAST-MODIFIED:20240403T150426Z
UID:12229-1712563200-1712568600@campcourant.org
SUMMARY:Spring Opening Day Celebration!
DESCRIPTION:Back for its second year! Please join us at Camp for a light breakfast and join in on the celebration as we cheer and greet the campers as they arrive for their very first day of camp! Please click the link below to RSVP! \n  \nSchedule of Events: \n8:30am – 9:00am Light Breakfast Fare \n9:00am – 9:15am Welcome \n9:15am – 9:30am Campers Arrival
URL:https://campcourant.org/event/spring-opening-day-celebration/
LOCATION:Camp Courant\, 96 Batterson Park Road\, Farmington\, CT\, 06032\, United States
END:VEVENT
END:VCALENDAR