BEGIN:VCALENDAR
VERSION:2.0
PRODID:-//Camp Courant - ECPv6.15.20//NONSGML v1.0//EN
CALSCALE:GREGORIAN
METHOD:PUBLISH
X-WR-CALNAME:Camp Courant
X-ORIGINAL-URL:https://campcourant.org
X-WR-CALDESC:Events for Camp Courant
REFRESH-INTERVAL;VALUE=DURATION:PT1H
X-Robots-Tag:noindex
X-PUBLISHED-TTL:PT1H
BEGIN:VTIMEZONE
TZID:America/New_York
BEGIN:DAYLIGHT
TZOFFSETFROM:-0500
TZOFFSETTO:-0400
TZNAME:EDT
DTSTART:20220313T070000
END:DAYLIGHT
BEGIN:STANDARD
TZOFFSETFROM:-0400
TZOFFSETTO:-0500
TZNAME:EST
DTSTART:20221106T060000
END:STANDARD
BEGIN:DAYLIGHT
TZOFFSETFROM:-0500
TZOFFSETTO:-0400
TZNAME:EDT
DTSTART:20230312T070000
END:DAYLIGHT
BEGIN:STANDARD
TZOFFSETFROM:-0400
TZOFFSETTO:-0500
TZNAME:EST
DTSTART:20231105T060000
END:STANDARD
BEGIN:DAYLIGHT
TZOFFSETFROM:-0500
TZOFFSETTO:-0400
TZNAME:EDT
DTSTART:20240310T070000
END:DAYLIGHT
BEGIN:STANDARD
TZOFFSETFROM:-0400
TZOFFSETTO:-0500
TZNAME:EST
DTSTART:20241103T060000
END:STANDARD
END:VTIMEZONE
BEGIN:VEVENT
DTSTART;TZID=America/New_York:20230410T073000
DTEND;TZID=America/New_York:20230410T090000
DTSTAMP:20260421T111658
CREATED:20230202T210741Z
LAST-MODIFIED:20230202T210813Z
UID:11389-1681111800-1681117200@campcourant.org
SUMMARY:Inaugural Spring Opening Day
DESCRIPTION:Join us for history in the making! For the first time in our 129 year history\, we are thrilled to open our doors to campers during their April vacation for one week of specialized programming. Join us for breakfast and a lite ceremony as we welcome campers and kickoff this exciting new initiative.
URL:https://campcourant.org/event/inaugural-spring-opening-day/
LOCATION:Camp Courant\, 96 Batterson Park Road\, Farmington\, CT\, 06032\, United States
END:VEVENT
END:VCALENDAR