BEGIN:VCALENDAR
VERSION:2.0
PRODID:-//Camp Courant - ECPv6.15.20//NONSGML v1.0//EN
CALSCALE:GREGORIAN
METHOD:PUBLISH
X-ORIGINAL-URL:https://campcourant.org
X-WR-CALDESC:Events for Camp Courant
REFRESH-INTERVAL;VALUE=DURATION:PT1H
X-Robots-Tag:noindex
X-PUBLISHED-TTL:PT1H
BEGIN:VTIMEZONE
TZID:America/New_York
BEGIN:DAYLIGHT
TZOFFSETFROM:-0500
TZOFFSETTO:-0400
TZNAME:EDT
DTSTART:20230312T070000
END:DAYLIGHT
BEGIN:STANDARD
TZOFFSETFROM:-0400
TZOFFSETTO:-0500
TZNAME:EST
DTSTART:20231105T060000
END:STANDARD
BEGIN:DAYLIGHT
TZOFFSETFROM:-0500
TZOFFSETTO:-0400
TZNAME:EDT
DTSTART:20240310T070000
END:DAYLIGHT
BEGIN:STANDARD
TZOFFSETFROM:-0400
TZOFFSETTO:-0500
TZNAME:EST
DTSTART:20241103T060000
END:STANDARD
BEGIN:DAYLIGHT
TZOFFSETFROM:-0500
TZOFFSETTO:-0400
TZNAME:EDT
DTSTART:20250309T070000
END:DAYLIGHT
BEGIN:STANDARD
TZOFFSETFROM:-0400
TZOFFSETTO:-0500
TZNAME:EST
DTSTART:20251102T060000
END:STANDARD
END:VTIMEZONE
BEGIN:VEVENT
DTSTART;TZID=America/New_York:20240228T160000
DTEND;TZID=America/New_York:20240228T190000
DTSTAMP:20260422T041419
CREATED:20230113T171810Z
LAST-MODIFIED:20240129T202542Z
UID:11261-1709136000-1709146800@campcourant.org
SUMMARY:Arch Street Tavern Fundraiser
DESCRIPTION:Join us at Arch Street Tavern for an after-work event to support Hartford’s Camp Courant and kickoff its 130th anniversary!  Enjoy music\, drinks\, raffle and light fare all to support Hartford kids! Click the link below to get your tickets and more information. Questions? Please contact Tricia Rowold at trowold@campcourant.org We’ll see you there!
URL:https://campcourant.org/event/arch-street-tavern-fundraiser/
LOCATION:Arch Street Tavern\, 85 Arch St\, Hartford\, CT\, 06141\, United States
END:VEVENT
END:VCALENDAR