BEGIN:VCALENDAR
VERSION:2.0
PRODID:-//Camp Courant - ECPv6.15.20//NONSGML v1.0//EN
CALSCALE:GREGORIAN
METHOD:PUBLISH
X-ORIGINAL-URL:https://campcourant.org
X-WR-CALDESC:Events for Camp Courant
REFRESH-INTERVAL;VALUE=DURATION:PT1H
X-Robots-Tag:noindex
X-PUBLISHED-TTL:PT1H
BEGIN:VTIMEZONE
TZID:America/New_York
BEGIN:DAYLIGHT
TZOFFSETFROM:-0500
TZOFFSETTO:-0400
TZNAME:EDT
DTSTART:20230312T070000
END:DAYLIGHT
BEGIN:STANDARD
TZOFFSETFROM:-0400
TZOFFSETTO:-0500
TZNAME:EST
DTSTART:20231105T060000
END:STANDARD
BEGIN:DAYLIGHT
TZOFFSETFROM:-0500
TZOFFSETTO:-0400
TZNAME:EDT
DTSTART:20240310T070000
END:DAYLIGHT
BEGIN:STANDARD
TZOFFSETFROM:-0400
TZOFFSETTO:-0500
TZNAME:EST
DTSTART:20241103T060000
END:STANDARD
BEGIN:DAYLIGHT
TZOFFSETFROM:-0500
TZOFFSETTO:-0400
TZNAME:EDT
DTSTART:20250309T070000
END:DAYLIGHT
BEGIN:STANDARD
TZOFFSETFROM:-0400
TZOFFSETTO:-0500
TZNAME:EST
DTSTART:20251102T060000
END:STANDARD
END:VTIMEZONE
BEGIN:VEVENT
DTSTART;TZID=America/New_York:20240624T083000
DTEND;TZID=America/New_York:20240624T093000
DTSTAMP:20260421T210351
CREATED:20240318T191842Z
LAST-MODIFIED:20240528T201510Z
UID:12234-1719217800-1719221400@campcourant.org
SUMMARY:130th Summer Opening Day Celebration!
DESCRIPTION:  \n \n  \n  \n  \n  \n  \n  \nWithout a doubt\, the BEST day of the year! Please join us at Camp to celebrate with the Camp Courant family\, and help us kick off our 130th summer in style! Click HERE to RSVP. \n  \nSchedule of Events: \n8:30am – 9:00am Light Breakfast Fare \n9:00am – 9:15am Welcome \n9:15am – 9:30am Campers Arrival
URL:https://campcourant.org/event/summer-opening-day-celebration/
LOCATION:Camp Courant\, 96 Batterson Park Road\, Farmington\, CT\, 06032\, United States
END:VEVENT
END:VCALENDAR