BEGIN:VCALENDAR
VERSION:2.0
PRODID:-//Camp Courant - ECPv6.15.20//NONSGML v1.0//EN
CALSCALE:GREGORIAN
METHOD:PUBLISH
X-ORIGINAL-URL:https://campcourant.org
X-WR-CALDESC:Events for Camp Courant
REFRESH-INTERVAL;VALUE=DURATION:PT1H
X-Robots-Tag:noindex
X-PUBLISHED-TTL:PT1H
BEGIN:VTIMEZONE
TZID:America/New_York
BEGIN:DAYLIGHT
TZOFFSETFROM:-0500
TZOFFSETTO:-0400
TZNAME:EDT
DTSTART:20230312T070000
END:DAYLIGHT
BEGIN:STANDARD
TZOFFSETFROM:-0400
TZOFFSETTO:-0500
TZNAME:EST
DTSTART:20231105T060000
END:STANDARD
BEGIN:DAYLIGHT
TZOFFSETFROM:-0500
TZOFFSETTO:-0400
TZNAME:EDT
DTSTART:20240310T070000
END:DAYLIGHT
BEGIN:STANDARD
TZOFFSETFROM:-0400
TZOFFSETTO:-0500
TZNAME:EST
DTSTART:20241103T060000
END:STANDARD
BEGIN:DAYLIGHT
TZOFFSETFROM:-0500
TZOFFSETTO:-0400
TZNAME:EDT
DTSTART:20250309T070000
END:DAYLIGHT
BEGIN:STANDARD
TZOFFSETFROM:-0400
TZOFFSETTO:-0500
TZNAME:EST
DTSTART:20251102T060000
END:STANDARD
END:VTIMEZONE
BEGIN:VEVENT
DTSTART;VALUE=DATE:20241020
DTEND;VALUE=DATE:20241021
DTSTAMP:20260421T142722
CREATED:20240424T193828Z
LAST-MODIFIED:20240926T150503Z
UID:12354-1729382400-1729468799@campcourant.org
SUMMARY:Johnson Brunetti Nature Walk to Benefit Hartford's Camp Courant
DESCRIPTION:Join Johnson Brunetti and Hartford’s Camp Courant as we unite to ensure that the children of Hartford continue to enjoy a safe\, enriching\, and free spring and summer day camp experience! \nThis year marks the 130th anniversary of Hartford’s Camp Courant\, the oldest and largest free summer day camp in the nation. Each summer\, we provide Hartford children with free transportation\, two nutritious meals\, snacks\, and access to over 15 exciting enrichment programs—all designed to foster safety\, fun\, and learning. \nTogether\, we can make a difference! Help us raise the funds needed to keep this incredible 36-acre campground accessible for the youth of Hartford. Your support will help create lasting memories for these children. \nJoin us in this important mission—donate today and help us create a brighter summer for Hartford’s kids!
URL:https://campcourant.org/event/johnson-brunetti-nature-walk-to-benefit-hartfords-camp-courant/
LOCATION:Camp Courant\, 96 Batterson Park Road\, Farmington\, CT\, 06032\, United States
ORGANIZER;CN="Hartford's Camp Courant":MAILTO:stapper@campcourant.org
END:VEVENT
END:VCALENDAR